BEGIN:VCALENDAR
VERSION:2.0
PRODID:-//Ace Pensacola - ECPv6.15.20//NONSGML v1.0//EN
CALSCALE:GREGORIAN
METHOD:PUBLISH
X-WR-CALNAME:Ace Pensacola
X-ORIGINAL-URL:https://acepensacola.org
X-WR-CALDESC:Events for Ace Pensacola
REFRESH-INTERVAL;VALUE=DURATION:PT1H
X-Robots-Tag:noindex
X-PUBLISHED-TTL:PT1H
BEGIN:VTIMEZONE
TZID:America/Chicago
BEGIN:DAYLIGHT
TZOFFSETFROM:-0600
TZOFFSETTO:-0500
TZNAME:CDT
DTSTART:20250309T080000
END:DAYLIGHT
BEGIN:STANDARD
TZOFFSETFROM:-0500
TZOFFSETTO:-0600
TZNAME:CST
DTSTART:20251102T070000
END:STANDARD
BEGIN:DAYLIGHT
TZOFFSETFROM:-0600
TZOFFSETTO:-0500
TZNAME:CDT
DTSTART:20260308T080000
END:DAYLIGHT
BEGIN:STANDARD
TZOFFSETFROM:-0500
TZOFFSETTO:-0600
TZNAME:CST
DTSTART:20261101T070000
END:STANDARD
BEGIN:DAYLIGHT
TZOFFSETFROM:-0600
TZOFFSETTO:-0500
TZNAME:CDT
DTSTART:20270314T080000
END:DAYLIGHT
BEGIN:STANDARD
TZOFFSETFROM:-0500
TZOFFSETTO:-0600
TZNAME:CST
DTSTART:20271107T070000
END:STANDARD
END:VTIMEZONE
BEGIN:VEVENT
DTSTART;TZID=America/Chicago:20260701T100000
DTEND;TZID=America/Chicago:20260701T120000
DTSTAMP:20260420T091122
CREATED:20221121T180436Z
LAST-MODIFIED:20260126T221413Z
UID:839-1782900000-1782907200@acepensacola.org
SUMMARY:Foo Foo Fest 2026: External Marketing Meeting *MANDATORY* (FFF Committee\, Agencies\, Grant recipients)
DESCRIPTION:10:00 AM – 12:00 PM Bowden Building (MANDATORY FOR GRANT RECIPIENTS) \n\nExternal Marketing & Compliance Meeting with FFF committee\, curator\, and agencies\, nonprofit grant recipients\, FOF Committee and agencies present marketing & PR plan to nonprofit grant recipients.\n\n 
URL:https://acepensacola.org/event/foo-foo-fest-2026-external-marketing-meeting-mandatory-fff-committee-agencies-grant-recipients/
LOCATION:Bowden Building\, 120 Church St\, Pensacola\, FL\, 32502\, United States
CATEGORIES:ACE Events,Foo Foo Events
END:VEVENT
END:VCALENDAR