BEGIN:VCALENDAR
VERSION:2.0
PRODID:-//Ace Pensacola - ECPv6.15.20//NONSGML v1.0//EN
CALSCALE:GREGORIAN
METHOD:PUBLISH
X-WR-CALNAME:Ace Pensacola
X-ORIGINAL-URL:https://acepensacola.org
X-WR-CALDESC:Events for Ace Pensacola
REFRESH-INTERVAL;VALUE=DURATION:PT1H
X-Robots-Tag:noindex
X-PUBLISHED-TTL:PT1H
BEGIN:VTIMEZONE
TZID:America/Chicago
BEGIN:DAYLIGHT
TZOFFSETFROM:-0600
TZOFFSETTO:-0500
TZNAME:CDT
DTSTART:20250309T080000
END:DAYLIGHT
BEGIN:STANDARD
TZOFFSETFROM:-0500
TZOFFSETTO:-0600
TZNAME:CST
DTSTART:20251102T070000
END:STANDARD
BEGIN:DAYLIGHT
TZOFFSETFROM:-0600
TZOFFSETTO:-0500
TZNAME:CDT
DTSTART:20260308T080000
END:DAYLIGHT
BEGIN:STANDARD
TZOFFSETFROM:-0500
TZOFFSETTO:-0600
TZNAME:CST
DTSTART:20261101T070000
END:STANDARD
BEGIN:DAYLIGHT
TZOFFSETFROM:-0600
TZOFFSETTO:-0500
TZNAME:CDT
DTSTART:20270314T080000
END:DAYLIGHT
BEGIN:STANDARD
TZOFFSETFROM:-0500
TZOFFSETTO:-0600
TZNAME:CST
DTSTART:20271107T070000
END:STANDARD
END:VTIMEZONE
BEGIN:VEVENT
DTSTART;TZID=America/Chicago:20260619T100000
DTEND;TZID=America/Chicago:20260619T120000
DTSTAMP:20260420T091022
CREATED:20221121T180204Z
LAST-MODIFIED:20260126T221308Z
UID:838-1781863200-1781870400@acepensacola.org
SUMMARY:Foo Foo Fest 2026: Internal Marketing Meeting (Committee\, Agencies\, Survey Teams)
DESCRIPTION:10:00 AM – 12:00 PM Bait Shop\, Fish House \n\nInternal Marketing Meeting with FFF committee\, curator\, agencies\, and Downs & St. Germain.\nAgencies pitch their marketing & PR plan to the committee\, including logo\, artwork\, etc.
URL:https://acepensacola.org/event/foo-foo-fest-2026-internal-marketing-meeting-committee-agencies-survey-teams/
LOCATION:Fish House\, 600 S Barracks St\, Pensacola\, FL\, 32502\, United States
CATEGORIES:ACE Events,Foo Foo Events
END:VEVENT
END:VCALENDAR