BEGIN:VCALENDAR
VERSION:2.0
PRODID:-//Ace Pensacola - ECPv6.15.20//NONSGML v1.0//EN
CALSCALE:GREGORIAN
METHOD:PUBLISH
X-WR-CALNAME:Ace Pensacola
X-ORIGINAL-URL:https://acepensacola.org
X-WR-CALDESC:Events for Ace Pensacola
REFRESH-INTERVAL;VALUE=DURATION:PT1H
X-Robots-Tag:noindex
X-PUBLISHED-TTL:PT1H
BEGIN:VTIMEZONE
TZID:America/Chicago
BEGIN:DAYLIGHT
TZOFFSETFROM:-0600
TZOFFSETTO:-0500
TZNAME:CDT
DTSTART:20250309T080000
END:DAYLIGHT
BEGIN:STANDARD
TZOFFSETFROM:-0500
TZOFFSETTO:-0600
TZNAME:CST
DTSTART:20251102T070000
END:STANDARD
BEGIN:DAYLIGHT
TZOFFSETFROM:-0600
TZOFFSETTO:-0500
TZNAME:CDT
DTSTART:20260308T080000
END:DAYLIGHT
BEGIN:STANDARD
TZOFFSETFROM:-0500
TZOFFSETTO:-0600
TZNAME:CST
DTSTART:20261101T070000
END:STANDARD
BEGIN:DAYLIGHT
TZOFFSETFROM:-0600
TZOFFSETTO:-0500
TZNAME:CDT
DTSTART:20270314T080000
END:DAYLIGHT
BEGIN:STANDARD
TZOFFSETFROM:-0500
TZOFFSETTO:-0600
TZNAME:CST
DTSTART:20271107T070000
END:STANDARD
END:VTIMEZONE
BEGIN:VEVENT
DTSTART;TZID=America/Chicago:20260701T100000
DTEND;TZID=America/Chicago:20260701T120000
DTSTAMP:20260420T091100
CREATED:20221121T180436Z
LAST-MODIFIED:20260126T221413Z
UID:839-1782900000-1782907200@acepensacola.org
SUMMARY:Foo Foo Fest 2026: External Marketing Meeting *MANDATORY* (FFF Committee\, Agencies\, Grant recipients)
DESCRIPTION:10:00 AM – 12:00 PM Bowden Building (MANDATORY FOR GRANT RECIPIENTS) \n\nExternal Marketing & Compliance Meeting with FFF committee\, curator\, and agencies\, nonprofit grant recipients\, FOF Committee and agencies present marketing & PR plan to nonprofit grant recipients.\n\n 
URL:https://acepensacola.org/event/foo-foo-fest-2026-external-marketing-meeting-mandatory-fff-committee-agencies-grant-recipients/
LOCATION:Bowden Building\, 120 Church St\, Pensacola\, FL\, 32502\, United States
CATEGORIES:ACE Events,Foo Foo Events
END:VEVENT
BEGIN:VEVENT
DTSTART;TZID=America/Chicago:20260710T100000
DTEND;TZID=America/Chicago:20260710T110000
DTSTAMP:20260420T091100
CREATED:20260126T221542Z
LAST-MODIFIED:20260126T221542Z
UID:1003-1783677600-1783681200@acepensacola.org
SUMMARY:Foo Foo Fest 2026 - *VIRTUAL* Merch and Campaign Readiness Check-In
DESCRIPTION:10:00 AM – 11:00 AM \nVirtual committee meeting (via Zoom) \n\nCommittee and Agencies\nHI will present the website and proposed merch designs. Committee check-in with agencies on readiness of campaigns.
URL:https://acepensacola.org/event/foo-foo-fest-2026-virtual-merch-and-campaign-readiness-check-in/
CATEGORIES:ACE Events,Foo Foo Events
END:VEVENT
BEGIN:VEVENT
DTSTART;TZID=America/Chicago:20260713T110000
DTEND;TZID=America/Chicago:20260713T130000
DTSTAMP:20260420T091100
CREATED:20260327T184828Z
LAST-MODIFIED:20260416T154515Z
UID:1039-1783940400-1783947600@acepensacola.org
SUMMARY:ACE Mini-Grant Scoring (Attendance Required)
DESCRIPTION:The ACE Mini Grant Program is designed to support artists\, artist-led projects\, and small creative collaborations through a more accessible entry point into ACE funding. The program is intended to strengthen the local arts ecosystem\, encourage partnership\, and create a pathway for artists and emerging projects to grow into future ACE opportunities\, including Foo Foo Fest and other grant programs.
URL:https://acepensacola.org/event/ace-mini-grant-scoring-attendance-required/
LOCATION:The Bowden Building\, 120 Church Street\, Pensacola\, FL\, 32502\, United States
CATEGORIES:ACE Events
END:VEVENT
BEGIN:VEVENT
DTSTART;VALUE=DATE:20260714
DTEND;VALUE=DATE:20260715
DTSTAMP:20260420T091100
CREATED:20260327T184858Z
LAST-MODIFIED:20260327T184923Z
UID:1040-1783987200-1784073599@acepensacola.org
SUMMARY:ACE Mini-Grant Board Approval Vote
DESCRIPTION:The ACE Mini Grant Program is designed to support artists\, artist-led projects\, and small creative collaborations through a more accessible entry point into ACE funding. The program is intended to strengthen the local arts ecosystem\, encourage partnership\, and create a pathway for artists and emerging projects to grow into future ACE opportunities\, including Foo Foo Fest and other grant programs.
URL:https://acepensacola.org/event/ace-mini-grant-board-approval-vote/
CATEGORIES:ACE Events
END:VEVENT
BEGIN:VEVENT
DTSTART;VALUE=DATE:20260724
DTEND;VALUE=DATE:20260725
DTSTAMP:20260420T091100
CREATED:20240318T144440Z
LAST-MODIFIED:20260311T213601Z
UID:927-1784851200-1784937599@acepensacola.org
SUMMARY:2026 ACE Full General Operating Grant Opens
DESCRIPTION:
URL:https://acepensacola.org/event/2026-ace-full-general-operating-grant-opens/
CATEGORIES:ACE Events
END:VEVENT
END:VCALENDAR